BEGIN:VCALENDAR
VERSION:2.0
PRODID:-//ASV Benninghausen - ECPv6.15.20//NONSGML v1.0//EN
CALSCALE:GREGORIAN
METHOD:PUBLISH
X-WR-CALNAME:ASV Benninghausen
X-ORIGINAL-URL:https://asv-benninghausen.de
X-WR-CALDESC:Veranstaltungen für ASV Benninghausen
REFRESH-INTERVAL;VALUE=DURATION:PT1H
X-Robots-Tag:noindex
X-PUBLISHED-TTL:PT1H
BEGIN:VTIMEZONE
TZID:UTC
BEGIN:STANDARD
TZOFFSETFROM:+0000
TZOFFSETTO:+0000
TZNAME:UTC
DTSTART:20250101T000000
END:STANDARD
END:VTIMEZONE
BEGIN:VEVENT
DTSTART;TZID=UTC:20260425T140000
DTEND;TZID=UTC:20260425T140000
DTSTAMP:20260425T020109
CREATED:20260303T165334Z
LAST-MODIFIED:20260303T165334Z
UID:1416-1777125600-1777125600@asv-benninghausen.de
SUMMARY:Anangeln Teich Röllgen für Alle
DESCRIPTION:Teich Röllgen
URL:https://asv-benninghausen.de/events/anangeln-teich-roellgen-fuer-alle/
END:VEVENT
END:VCALENDAR